BEGIN:VCALENDAR
VERSION:2.0
PRODID:icalendar-ruby
CALSCALE:GREGORIAN
METHOD:PUBLISH
BEGIN:VEVENT
DTSTAMP:20260421T135818Z
UID:5-401082@thevinepahrump.com
DTSTART:20261004T173000Z
DTEND:20261004T183000Z
CLASS:PUBLIC
CREATED:20260421T042519
DESCRIPTION:Sunday Worship
LAST-MODIFIED:20260421T042519
LOCATION:
SUMMARY:Sunday Worship
URL;VALUE=URI:https://www.thevinepahrump.com/events/sunday-worship/2026-10-
 04
END:VEVENT
END:VCALENDAR
